BEGIN:VCALENDAR
VERSION:2.0
PRODID:-//BSPU - ECPv6.15.20//NONSGML v1.0//EN
CALSCALE:GREGORIAN
METHOD:PUBLISH
X-WR-CALNAME:BSPU
X-ORIGINAL-URL:https://bspu.nl
X-WR-CALDESC:Evenementen voor BSPU
REFRESH-INTERVAL;VALUE=DURATION:PT1H
X-Robots-Tag:noindex
X-PUBLISHED-TTL:PT1H
BEGIN:VTIMEZONE
TZID:Europe/Amsterdam
BEGIN:DAYLIGHT
TZOFFSETFROM:+0100
TZOFFSETTO:+0200
TZNAME:CEST
DTSTART:20230326T010000
END:DAYLIGHT
BEGIN:STANDARD
TZOFFSETFROM:+0200
TZOFFSETTO:+0100
TZNAME:CET
DTSTART:20231029T010000
END:STANDARD
BEGIN:DAYLIGHT
TZOFFSETFROM:+0100
TZOFFSETTO:+0200
TZNAME:CEST
DTSTART:20240331T010000
END:DAYLIGHT
BEGIN:STANDARD
TZOFFSETFROM:+0200
TZOFFSETTO:+0100
TZNAME:CET
DTSTART:20241027T010000
END:STANDARD
BEGIN:DAYLIGHT
TZOFFSETFROM:+0100
TZOFFSETTO:+0200
TZNAME:CEST
DTSTART:20250330T010000
END:DAYLIGHT
BEGIN:STANDARD
TZOFFSETFROM:+0200
TZOFFSETTO:+0100
TZNAME:CET
DTSTART:20251026T010000
END:STANDARD
END:VTIMEZONE
BEGIN:VEVENT
DTSTART;TZID=Europe/Amsterdam:20241001T193000
DTEND;TZID=Europe/Amsterdam:20241001T213000
DTSTAMP:20260421T154045
CREATED:20240615T174257Z
LAST-MODIFIED:20240615T174257Z
UID:7754-1727811000-1727818200@bspu.nl
SUMMARY:Workshop Schrijverscafé
DESCRIPTION:Workshop voor iedereen die van creatief schrijven houdt. \nElke eerste dinsdag van de maand van september t/m juni.\nTijd: 19.30 – 21.30 uur\nLocatie: bibliotheek Amstelland\, Marktplein 65 1421 AC Uithoorn \nWel even aanmelden via info@bspu.nl
URL:https://bspu.nl/activiteiten/workshop-schrijverscafe-2/
LOCATION:Bibliotheek Uithoorn\, Marktplein 65\, Uithoorn\, \, 1421 AC\, Nederland
CATEGORIES:Schrijven
ORGANIZER;CN="BSPU":MAILTO:info@bspu.nl
END:VEVENT
BEGIN:VEVENT
DTSTART;TZID=Europe/Amsterdam:20241005T200000
DTEND;TZID=Europe/Amsterdam:20241006T003000
DTSTAMP:20260421T154045
CREATED:20240921T112342Z
LAST-MODIFIED:20240921T112936Z
UID:7890-1728158400-1728174600@bspu.nl
SUMMARY:Boekengala Uithoorn
DESCRIPTION:Zoals reeds eerder aangekondigd organiseert het BSPU in samenwerking met het CPUK ook dit jaar een Boekengala en wel op \nzaterdag 5 oktober in de Thamerkerk\, Amsteldijk Noord 1\, 1422 XS Uithoorn. \nTijd: 19.30 – 00.30 uur \n  \nKom ook en ontmoet lokale schrijvers op dit feest voor liefhebbers van schrijven\, lezen en creativiteit in Uithoorn. \nAanmelden plus ticketverkoop: Event brite \nAmstel Life Boek Award\nOok dit jaar kun je meedingen naar de AMSTEL LIFE BOEK AWARD \nStuur daarvoor jouw allermooiste zin naar: dit formulier in met jouw allermooiste zin (uiterlijk 29 september) \nOp de avond zelf stemmen de aanwezigen op de ingezonden zinnen. Wie de meeste stemmen heeft is winnaar en krijgt de felbegeerde Award plus oorkonde uit handen van de burgemeester of diens vervanger. Daarna is de dansvloer vrij voor vrije dans. \nHet belooft weer een fantastische avond te worden met muziek en voordrachten. Tevens zijn er professionals uit de uitgeverswereld uitgenodigd. \nSchrijf je dus nu in met je partner of grootste fan en samen maken we er weer een onvergetelijke avond van.\nDresscode: casual met een touch of gold.\nDe presentatie is wederom in handen van ambassadeursvrouw Reinildis DuivenééDeWitt. \nOverigens zijn op deze avond ook schrijvers uit Aalsmeer en Amstelveen van harte welkom. Vele daarvan zijn ons niet bekend\, dus mocht je schrijvers kennen\, voel je vrij om deze mail door te sturen.
URL:https://bspu.nl/activiteiten/boekengala-uithoorn/
LOCATION:Thamerkerk\, Amsteldijk Noord\, Uithoorn\, 1422 XS
CATEGORIES:Boekenbal Uithoorn
ATTACH;FMTTYPE=image/jpeg:https://bspu.nl/wp-content/uploads/2024/09/flyer-Michel.jpg
ORGANIZER;CN="BSPU":MAILTO:info@bspu.nl
END:VEVENT
BEGIN:VEVENT
DTSTART;TZID=Europe/Amsterdam:20241015T193000
DTEND;TZID=Europe/Amsterdam:20241015T213000
DTSTAMP:20260421T154045
CREATED:20240616T144821Z
LAST-MODIFIED:20240616T144821Z
UID:7783-1729020600-1729027800@bspu.nl
SUMMARY:Workshop 'Schilderen met woorden'
DESCRIPTION:Heb je in je hoofd prachtige zinnen die een gedicht vormen? Schrijf je ze soms op? Wil je jouw poëzie laten horen en weten wat anderen ervan vinden? Of wil je juist leren schrijven en voordragen? Of heb je schrijftips nodig? Peter Borghaerts\, dorpsdichter Uithoorn en Amanda ten Cate\, dichter uit Amstelveen\, ontvangen je graag tijdens hun inspiratiesessies ‘schilderen met woorden’. \nDe bijeenkomsten vinden plaats in de bibliotheek Uithoorn\, Marktplein 65 \nWel graag even aanmelden via info@bspu.nl
URL:https://bspu.nl/activiteiten/workshop-schilderen-met-woorden/
LOCATION:Bibliotheek Uithoorn\, Marktplein 65\, Uithoorn\, \, 1421 AC\, Nederland
CATEGORIES:Dichten - Schilderen met woorden
ORGANIZER;CN="BSPU":MAILTO:info@bspu.nl
END:VEVENT
BEGIN:VEVENT
DTSTART;TZID=Europe/Amsterdam:20241023T193000
DTEND;TZID=Europe/Amsterdam:20241023T213000
DTSTAMP:20260421T154045
CREATED:20240616T152435Z
LAST-MODIFIED:20240616T152435Z
UID:7805-1729711800-1729719000@bspu.nl
SUMMARY:Open Voordracht
DESCRIPTION:Een avond voor en door woordkunstenaars. Een open podium voor dichters\, spoken word\, rappers\, iedereen! \nEntree € 3\,50 (inclusief 1 kop koffie of thee)
URL:https://bspu.nl/activiteiten/open-voordracht-9/
LOCATION:Geniet aan de Amstel\, Marktplein 2A\, Uithoorn\, Noord-Holland\, 1421 AC\, Nederland
CATEGORIES:Voordracht
ORGANIZER;CN="BSPU":MAILTO:info@bspu.nl
END:VEVENT
END:VCALENDAR